BEGIN:VCALENDAR
VERSION:2.0
PRODID:-//Paideia Southeast - ECPv6.15.20//NONSGML v1.0//EN
CALSCALE:GREGORIAN
METHOD:PUBLISH
X-WR-CALNAME:Paideia Southeast
X-ORIGINAL-URL:https://paideiasoutheast.com
X-WR-CALDESC:Events for Paideia Southeast
REFRESH-INTERVAL;VALUE=DURATION:PT1H
X-Robots-Tag:noindex
X-PUBLISHED-TTL:PT1H
BEGIN:VTIMEZONE
TZID:America/New_York
BEGIN:DAYLIGHT
TZOFFSETFROM:-0500
TZOFFSETTO:-0400
TZNAME:EDT
DTSTART:20210314T070000
END:DAYLIGHT
BEGIN:STANDARD
TZOFFSETFROM:-0400
TZOFFSETTO:-0500
TZNAME:EST
DTSTART:20211107T060000
END:STANDARD
BEGIN:DAYLIGHT
TZOFFSETFROM:-0500
TZOFFSETTO:-0400
TZNAME:EDT
DTSTART:20220313T070000
END:DAYLIGHT
BEGIN:STANDARD
TZOFFSETFROM:-0400
TZOFFSETTO:-0500
TZNAME:EST
DTSTART:20221106T060000
END:STANDARD
BEGIN:DAYLIGHT
TZOFFSETFROM:-0500
TZOFFSETTO:-0400
TZNAME:EDT
DTSTART:20230312T070000
END:DAYLIGHT
BEGIN:STANDARD
TZOFFSETFROM:-0400
TZOFFSETTO:-0500
TZNAME:EST
DTSTART:20231105T060000
END:STANDARD
BEGIN:DAYLIGHT
TZOFFSETFROM:-0500
TZOFFSETTO:-0400
TZNAME:EDT
DTSTART:20240310T070000
END:DAYLIGHT
BEGIN:STANDARD
TZOFFSETFROM:-0400
TZOFFSETTO:-0500
TZNAME:EST
DTSTART:20241103T060000
END:STANDARD
BEGIN:DAYLIGHT
TZOFFSETFROM:-0500
TZOFFSETTO:-0400
TZNAME:EDT
DTSTART:20250309T070000
END:DAYLIGHT
BEGIN:STANDARD
TZOFFSETFROM:-0400
TZOFFSETTO:-0500
TZNAME:EST
DTSTART:20251102T060000
END:STANDARD
BEGIN:DAYLIGHT
TZOFFSETFROM:-0500
TZOFFSETTO:-0400
TZNAME:EDT
DTSTART:20260308T070000
END:DAYLIGHT
BEGIN:STANDARD
TZOFFSETFROM:-0400
TZOFFSETTO:-0500
TZNAME:EST
DTSTART:20261101T060000
END:STANDARD
BEGIN:DAYLIGHT
TZOFFSETFROM:-0500
TZOFFSETTO:-0400
TZNAME:EDT
DTSTART:20270314T070000
END:DAYLIGHT
BEGIN:STANDARD
TZOFFSETFROM:-0400
TZOFFSETTO:-0500
TZNAME:EST
DTSTART:20271107T060000
END:STANDARD
END:VTIMEZONE
BEGIN:VEVENT
DTSTART;TZID=America/New_York:20260124T084500
DTEND;TZID=America/New_York:20260124T170000
DTSTAMP:20260425T114451
CREATED:20241210T181221Z
LAST-MODIFIED:20260107T023228Z
UID:3827-1769244300-1769274000@paideiasoutheast.com
SUMMARY:One-Day Retreat with the Scholé Sisters
DESCRIPTION:Join us on Saturday January 24\, 2026 from 8:45am – 5:00pm in Buford\, GA for a day of encouragement\, refreshment\, and connection with local homeschooling moms! \n\n\n\nThis one-day retreat is perfect for new and seasoned homeschooling moms of all backgrounds. Mothers with children who are not yet school-aged have also said they love these retreats.  \n\n\n\nWe’ll have small group discussion\, lunch\, and time for personal reflection. These retreats are always full of biblical encouragement\, inspiration\, and practical takeaways–and midwinter always feels like the perfect time to pause\, reflect\, and connect.  \n\n\n\nThis Year’s Theme: Curriculum\n\n\n\nScholé Sisters podcast hosts and popular conference speakers Mystie Winkler\, Brandy Vencel\, and Abby Wahl will provide recorded video talks aimed to encourage and equip.   \n\n\n\nThis year’s theme is Curriculum–curriculum defined as your path\, your family culture\, and you modeling being an educated person in front of your kids.  \n\n\n\nFrom The Scholé Sisters’ website: “What we believe about curriculum: Curriculum is formative. Curriculum is more than materials. The homeschool mom herself is part of the curriculum.“ \n\n\n\nRegistration\n\n\n\nRegistration is below and will close on January 21st. Hope you can join us! And tell a friend! 🙂  \n\n\n\nRegistration fee includes the Scholé Sisters’ discounted retreat group rate. After the retreat\, you’ll receive a link to all of their talks and downloads!    \n\n\nRegistration for this event is closed! We hope you can join us at a future event!
URL:https://paideiasoutheast.com/event/one-day-retreat-with-the-schole-sisters/
CATEGORIES:Workshop
ATTACH;FMTTYPE=image/jpeg:https://paideiasoutheast.com/wp-content/uploads/2022/06/4EC8E6E0-4FF7-4A57-9046-5DC1B1271A3A-scaled.jpeg
END:VEVENT
BEGIN:VEVENT
DTSTART;TZID=America/New_York:20250726T090000
DTEND;TZID=America/New_York:20250726T120000
DTSTAMP:20260425T114451
CREATED:20250518T014037Z
LAST-MODIFIED:20250707T023939Z
UID:3947-1753520400-1753531200@paideiasoutheast.com
SUMMARY:Summer Encouragement Event 2025
DESCRIPTION:Story\n\n\n\nWe all love good stories\, and we want to raise readers. But more than that\, we want–by God’s grace!–to raise children who love the Lord with all of their heart\, soul\, mind\, and strength\, and who love their neighbors as themselves. We want that for ourselves.  \n\n\n\nHow can stories help us toward these ends? \n\n\n\nJoin us on Saturday July 26th in Buford\, GA from 9am-12:30pm for a morning of fellowship\, biblical encouragement\, and thoughtful conversation around the topic: Story.  \n\n\n\nSpeakers Elizabeth Bailey and Sara Fragoso will explore questions like:  \n\n\n\n\nHow do stories shape our children’s affections\, loyalties\, and imaginations? \n\n\n\nWhy read aloud & how to do it in different seasons of life? \n\n\n\nHow can we help our kids think biblically about what they read? \n\n\n\nHow can stories help us in parenting? \n\n\n\nHow does understanding God’s stories enrich our homes?\n\n\n\n\nFollowing our speakers’ talks\, we’ll have a Q & A time with a panel of seasoned moms. We’ll also have group discussion\, resource tables\, refreshments\, and time to connect with other moms seeking to raise and educate their kids in the Lord.  \n\n\n\nRegistration is below! Hope you can join us! \n\n\nRegistration is now closed. We hope you join us at a future event!
URL:https://paideiasoutheast.com/event/moms-encouragement-event-2025-2/
CATEGORIES:Workshop
ATTACH;FMTTYPE=image/jpeg:https://paideiasoutheast.com/wp-content/uploads/2023/07/IMG_65A23DD5F22C-1.jpeg
END:VEVENT
BEGIN:VEVENT
DTSTART;TZID=America/New_York:20240727T090000
DTEND;TZID=America/New_York:20240727T123000
DTSTAMP:20260425T114451
CREATED:20240702T060058Z
LAST-MODIFIED:20240705T205649Z
UID:3977-1722070800-1722083400@paideiasoutheast.com
SUMMARY:Summer Encouragement Event 2024
DESCRIPTION:A Beautiful School Year \n\n\n\nJoin us on July 27th from 9am-12:30pm for our Summer Encouragement Event in North Atlanta! Seasoned homeschooling moms and speakers Heather Tully and Sara Fragoso will share wisdom and biblical encouragement related to the theme ‘A Beautiful School Year.’ \n\n\n\nGod defines beauty\, creates beautiful things\, and tells beautiful stories. Embracing a biblical view of beauty in our world\, our homes\, and ourselves can shape our affections\, teaching us to love what God loves.  \n\n\n\nA biblical and robust view of beauty can help us build more peaceful\, joyful\, and beautiful home cultures—and homeschools.* \n\n\n\nIn our time together\, we’ll explore questions like: \n\n\n\n\nHow do we define beauty and why does it matter?\n\n\n\nHow can we cultivate a love of the beauty of creation and incorporate it into our homes and homeschools?\n\n\n\nHow can we become more beautiful women and wives and mothers? (1 Peter 3:3-4)\n\n\n\n\nFollowing our speakers’ talks\, we’ll have a Q & A time with a panel of seasoned moms. We’ll also have small group discussions\, resource tables\, refreshments\, and time to connect with other moms seeking to raise and educate their kids in the Lord. \n\n\n\nHope you can join us! Space is limited and sign-ups are below. 🙂 \n\n\n\n*While this event is geared toward homeschoolers\, the content will also be relevant to those with very young children or those using hybrids/day schools! \n\n\n\n\n\n\n\nRegistration for A Beautiful School Year \n\n\n\nAdmission is $7 to help cover our costs.  \n\n\n\nRegistration is now Closed. We hope you plan to join us for an event in the future!
URL:https://paideiasoutheast.com/event/summer-encouragement-event-2024/
CATEGORIES:Workshop
END:VEVENT
BEGIN:VEVENT
DTSTART;TZID=America/New_York:20220730T090000
DTEND;TZID=America/New_York:20220730T120000
DTSTAMP:20260425T114451
CREATED:20220622T224141Z
LAST-MODIFIED:20220627T204336Z
UID:3808-1659171600-1659182400@paideiasoutheast.com
SUMMARY:July Encouragement Event
DESCRIPTION:Habits To Shape Our Hearts & Homes\n\n\n\nJoin us for a morning of encouragement and fellowship! Seasoned homeschooling moms will share wisdom and biblical encouragement related to the topic Habits To Shape Our Hearts & Homes.  \n\n\n\nWe will have Q & A with a panel of seasoned moms\, small group discussion\, and plenty of refreshments. Hope you can join us!  \n\n\n\nSpace is limited so plan to sign up soon!
URL:https://paideiasoutheast.com/event/panel-2/
CATEGORIES:Free,Workshop
ATTACH;FMTTYPE=image/png:https://paideiasoutheast.com/wp-content/uploads/2022/06/Word-photo-2.png
END:VEVENT
BEGIN:VEVENT
DTSTART;TZID=America/New_York:20220611T080000
DTEND;TZID=America/New_York:20220611T170000
DTSTAMP:20260425T114451
CREATED:20210704T031418Z
LAST-MODIFIED:20220623T173108Z
UID:2668-1654934400-1654966800@paideiasoutheast.com
SUMMARY:Conference
DESCRIPTION:More Information Coming Soon!
URL:https://paideiasoutheast.com/event/conference-tbd/
CATEGORIES:Conference
ATTACH;FMTTYPE=image/jpeg:https://paideiasoutheast.com/wp-content/uploads/2022/06/AA062945-BA17-4A6F-B2E3-6007E86CC7D5.jpeg
END:VEVENT
END:VCALENDAR